BEGIN:VCALENDAR
VERSION:2.0
PRODID:-//eventon.com NONSGML v1.0//EN
CALSCALE:GREGORIAN
METHOD:PUBLISH
BEGIN:VEVENT
UID:69ea3fe578869
DTSTAMP:20260423T115101
DTSTART:20250610T080000Z
DTEND:20250613T200000Z
TZID:Asia/Seoul
LOCATION:
SUMMARY:Seoul Food & Hotel
DESCRIPTION:Seoul Food &amp; Hotel is South Korea’s largest international food and hospitality trade show\,  connecting global food industry professionals with key buyers\,  distributors\,  and decision-makers from across Asia. Meet us at a this event\nhttps://gsdunn.com/events/seoul-food-hotel/
URL:https://gsdunn.com/events/seoul-food-hotel/
END:VEVENT
END:VCALENDAR