BEGIN:VCALENDAR
VERSION:2.0
PRODID:-//eventon.com NONSGML v1.0//EN
CALSCALE:GREGORIAN
METHOD:PUBLISH
BEGIN:VEVENT
UID:69ea6b0c89385
DTSTAMP:20260423T145508
DTSTART:20251202T103000Z
DTEND:20251204T153000Z
TZID:Europe/Paris
LOCATION:
SUMMARY:Fi Europe
DESCRIPTION:Fi Europe Paris is the leading global event for the food ingredients industry\,  offering a platform for professionals to network\,  explore new products\,  and stay ahead of emerging trends in food and beverage formulation. Meet us at a this event\nhttps://gsdunn.com/es/events/fi-europe/
URL:https://gsdunn.com/es/events/fi-europe/
END:VEVENT
END:VCALENDAR